BEGIN:VCALENDAR
VERSION:2.0
PRODID:-//saintpaulchurch.org//eCatholic//EN
X-WR-TIMEZONE:LocalTZ
BEGIN:VTIMEZONE
TZID:LocalTZ
X-LIC-LOCATION:LocalTZ
BEGIN:DAYLIGHT
TZOFFSETFROM:-0600
TZOFFSETTO:-0500
TZNAME:LocalTZ
DTSTART:19700308T020000
RRULE:FREQ=YEARLY;BYMONTH=3;BYDAY=2SU
END:DAYLIGHT
BEGIN:STANDARD
TZOFFSETFROM:-0500
TZOFFSETTO:-0600
TZNAME:LocalTZ
DTSTART:19701101T020000
RRULE:FREQ=YEARLY;BYMONTH=11;BYDAY=1SU
END:STANDARD
END:VTIMEZONE
BEGIN:VEVENT
UID:2904351@saintpaulchurch.org
DTSTAMP:20260422T141252Z
DTSTART:20260427T100000
DTEND:20260427T114500
RRULE:FREQ=WEEKLY;UNTIL=20260630;BYDAY=MO
SUMMARY:Weekly Monday Bible Study & Prayer Group
END:VEVENT
END:VCALENDAR
